BEGIN:VCALENDAR
VERSION:2.0
PRODID:-//Contratero//ES
CALSCALE:GREGORIAN
METHOD:PUBLISH
BEGIN:VEVENT
UID:EPC 08/23 BIS@contratero.es
DTSTAMP:20260421T142417Z
DTSTART:20231124T235959
DTEND:20231125T005959
SUMMARY:Cierre: Servicio de externalización del Delegado de Protec
DESCRIPTION:Servicio de externalización del Delegado de Protección de Datos\\n\\nOrganismo: Ente Público de Radiotelevisión de las Illes Balears\\n\\nVer en Contratero: https://contratero.es/contracts/EPC 08/23 BIS
URL:https://contratero.es/contracts/EPC 08/23 BIS
STATUS:CONFIRMED
BEGIN:VALARM
TRIGGER:-P1D
ACTION:DISPLAY
DESCRIPTION:Recordatorio: Servicio de externalización de
END:VALARM
END:VEVENT
END:VCALENDAR